BEGIN:VCALENDAR
METHOD:PUBLISH
VERSION:2.0
CALSCALE:GREGORIAN
PRODID:-//NONSGML WPForms//NONSGML Sugar Calendar Feeds v3.10.0//EN
X-WR-CALNAME:Author Series: Andrew Maraniss @ Kirby
X-WR-CALDESC:Warren County Public Library
X-WR-TIMEZONE:America/Chicago
BEGIN:VTIMEZONE
TZID:America/Chicago
BEGIN:STANDARD
TZOFFSETFROM:-0500
TZOFFSETTO:-0600
DTSTART:20241103T070000
TZNAME:CST
END:STANDARD
BEGIN:DAYLIGHT
TZOFFSETFROM:-0600
TZOFFSETTO:-0500
DTSTART:20250309T080000
TZNAME:CDT
END:DAYLIGHT
END:VTIMEZONE
BEGIN:VTIMEZONE
TZID:America/Chicago
BEGIN:STANDARD
TZOFFSETFROM:-0500
TZOFFSETTO:-0600
DTSTART:20241103T070000
TZNAME:CST
END:STANDARD
BEGIN:DAYLIGHT
TZOFFSETFROM:-0600
TZOFFSETTO:-0500
DTSTART:20250309T080000
TZNAME:CDT
END:DAYLIGHT
END:VTIMEZONE
BEGIN:VEVENT
SUMMARY:Author Series: Andrew Maraniss @ Kirby
DESCRIPTION:New York Times bestselling author Andrew Maraniss writes spo
 rts-and history-related nonfiction for adults\, teens\, and children\, t
 elling stories with a larger social message. His first book\, Strong Ins
 ide\, received the Lillian Smith Book Award for civil rights and the RFK
  Book Awards’ Special Recognition Prize for social justice\, becoming 
 the first sports-related book ever to win either award. His young reader
 s adaptation of Strong Inside was named one of the Top Biographies for Y
 outh by the American Library Association and was named a Notable Social 
 Studies Book by the Children’s Book Council. His acclaimed second book
  for kids Games of Deception was a Sydney Taylor Book Award Middle Grade
  Honor Recipient. His third book\, Singled Out\, was a Rainbow Book List
  honoree and was named one of the “Top 100 Baseball Books Ever Written
 ” by Esquire Magazine. His fourth book\, Inaugural Ballers\, was named
  to the ALA Rise Feminist Book List. Andrew lives in Nashville and is di
 rector of special projects at the Vanderbilt University athletic departm
 ent.  \n\nRegister here for free tickets!
URL;VALUE=URI:https://warrenpl.org/events/author-series-andrew-maraniss/
UID:urn:uuid:49c032a7-7789-4c72-a0f9-9b8e31733be4
STATUS:CONFIRMED
ORGANIZER:
DTSTAMP:20260423T084349Z
DTSTART;TZID=America/Chicago:20250413T150000
DTEND;TZID=America/Chicago:20250413T170000
LOCATION:175 Iron Skillet Court
END:VEVENT
END:VCALENDAR