BEGIN:VCALENDAR
METHOD:PUBLISH
VERSION:2.0
CALSCALE:GREGORIAN
PRODID:-//NONSGML WPForms//NONSGML Sugar Calendar Feeds v3.10.0//EN
X-WR-CALNAME:Spanish-Storytime-@-Buchanon
X-WR-CALDESC:Warren County Public Library
X-WR-TIMEZONE:America/Chicago
BEGIN:VTIMEZONE
TZID:America/Chicago
BEGIN:STANDARD
TZOFFSETFROM:-0500
TZOFFSETTO:-0600
DTSTART:20251102T070000
TZNAME:CST
END:STANDARD
BEGIN:DAYLIGHT
TZOFFSETFROM:-0600
TZOFFSETTO:-0500
DTSTART:20260308T080000
TZNAME:CDT
END:DAYLIGHT
END:VTIMEZONE
BEGIN:VTIMEZONE
TZID:America/Chicago
BEGIN:STANDARD
TZOFFSETFROM:-0500
TZOFFSETTO:-0600
DTSTART:20251102T070000
TZNAME:CST
END:STANDARD
BEGIN:DAYLIGHT
TZOFFSETFROM:-0600
TZOFFSETTO:-0500
DTSTART:20260308T080000
TZNAME:CDT
END:DAYLIGHT
END:VTIMEZONE
BEGIN:VEVENT
SUMMARY:Spanish Storytime @ Buchanon
DESCRIPTION:(Ages 0-5) Read\, write\, talk\, sing\, play\, and enjoy a b
 i-lingual storytime experience with MJ or Rosi! No registration required
 .\n\n¡Lean\, escriban\, hablen\, canten\, jueguen\, y disfruten de una 
 hora de cuentos bilingüe! No es necesario registrarse.
URL;VALUE=URI:https://warrenpl.org/sc_recurring_event/bilingual-spanish-
 and-english-storytime-buchanon-2-2-2-2-3/
UID:urn:uuid:3628d740-be8f-4138-9462-c5ba7d65175c
STATUS:CONFIRMED
ORGANIZER:
DTSTAMP:20260421T051220Z
DTSTART;TZID=America/Chicago:20260501T110000
DTEND;TZID=America/Chicago:20260501T113000
RRULE:FREQ=WEEKLY;INTERVAL=1
LOCATION:9222 Nashville Road
END:VEVENT
END:VCALENDAR