BEGIN:VCALENDAR
METHOD:PUBLISH
VERSION:2.0
CALSCALE:GREGORIAN
PRODID:-//NONSGML WPForms//NONSGML Sugar Calendar Feeds v3.10.0//EN
X-WR-CALNAME:Brilliant-Babies-@-Rice
X-WR-CALDESC:Warren County Public Library
X-WR-TIMEZONE:America/Chicago
BEGIN:VTIMEZONE
TZID:America/Chicago
BEGIN:DAYLIGHT
TZOFFSETFROM:-0500
TZOFFSETTO:-0500
DTSTART:20260308T220000
TZNAME:CDT
END:DAYLIGHT
END:VTIMEZONE
BEGIN:VTIMEZONE
TZID:America/Chicago
BEGIN:DAYLIGHT
TZOFFSETFROM:-0500
TZOFFSETTO:-0500
DTSTART:20260308T220000
TZNAME:CDT
END:DAYLIGHT
END:VTIMEZONE
BEGIN:VEVENT
SUMMARY:Brilliant Babies @ Rice
DESCRIPTION:(Birth - 18 months) Read stories\, sing songs\, learn\, and 
 play! Join us for this program targeted at engaging your baby's developi
 ng mind and socializing with others!\nAre you an expectant parent? Come 
 check us out\, and meet the storytime crew!
URL;VALUE=URI:https://warrenpl.org/sc_recurring_event/brilliant-babies-r
 ice-2-2-2-2-2/
UID:urn:uuid:a4fd05b6-ee9f-4fa5-8de0-e17921438796
STATUS:CONFIRMED
ORGANIZER:
DTSTAMP:20260421T050915Z
DTSTART;TZID=America/Chicago:20260907T100000
DTEND;TZID=America/Chicago:20260907T103000
RRULE:FREQ=WEEKLY;INTERVAL=1
LOCATION:1225 State Street
END:VEVENT
END:VCALENDAR