BEGIN:VCALENDAR
METHOD:PUBLISH
VERSION:2.0
CALSCALE:GREGORIAN
PRODID:-//NONSGML WPForms//NONSGML Sugar Calendar Feeds v3.10.0//EN
X-WR-CALNAME:LEGO-Club-@-Buchanon
X-WR-CALDESC:Warren County Public Library
X-WR-TIMEZONE:America/Chicago
BEGIN:VTIMEZONE
TZID:America/Chicago
BEGIN:DAYLIGHT
TZOFFSETFROM:-0600
TZOFFSETTO:-0500
DTSTART:20260308T080000
TZNAME:CDT
END:DAYLIGHT
END:VTIMEZONE
BEGIN:VTIMEZONE
TZID:America/Chicago
BEGIN:DAYLIGHT
TZOFFSETFROM:-0600
TZOFFSETTO:-0500
DTSTART:20260308T080000
TZNAME:CDT
END:DAYLIGHT
END:VTIMEZONE
BEGIN:VEVENT
SUMMARY:LEGO Club @ Buchanon
DESCRIPTION:(Ages 4 &amp\; up) Create\, build\, innovate! LEGO Club is a
 n opportunity to play and create with legos. We provide the bricks\; YOU
  provide the imagination!\n\nNo registration required!
URL;VALUE=URI:https://warrenpl.org/sc_recurring_event/lego-club-buchanon
 -2-3-4/
UID:urn:uuid:09aafb0c-14b8-444f-b1b0-ba11734eef75
STATUS:CONFIRMED
ORGANIZER:
DTSTAMP:20260421T050947Z
DTSTART;TZID=America/Chicago:20260730T150000
DTEND;TZID=America/Chicago:20260730T160000
RRULE:FREQ=WEEKLY;INTERVAL=1
LOCATION:9222 Nashville Road
END:VEVENT
END:VCALENDAR