BEGIN:VCALENDAR
METHOD:PUBLISH
VERSION:2.0
CALSCALE:GREGORIAN
PRODID:-//NONSGML WPForms//NONSGML Sugar Calendar Feeds v3.10.0//EN
X-WR-CALNAME:Let's Read: Kwame Alexander
X-WR-CALDESC:Warren County Public Library
X-WR-TIMEZONE:America/Chicago
BEGIN:VTIMEZONE
TZID:America/Chicago
BEGIN:STANDARD
TZOFFSETFROM:-0500
TZOFFSETTO:-0600
DTSTART:20241103T070000
TZNAME:CST
END:STANDARD
BEGIN:DAYLIGHT
TZOFFSETFROM:-0600
TZOFFSETTO:-0500
DTSTART:20250309T080000
TZNAME:CDT
END:DAYLIGHT
END:VTIMEZONE
BEGIN:VTIMEZONE
TZID:America/Chicago
BEGIN:STANDARD
TZOFFSETFROM:-0500
TZOFFSETTO:-0600
DTSTART:20241103T070000
TZNAME:CST
END:STANDARD
BEGIN:DAYLIGHT
TZOFFSETFROM:-0600
TZOFFSETTO:-0500
DTSTART:20250309T080000
TZNAME:CDT
END:DAYLIGHT
END:VTIMEZONE
BEGIN:VEVENT
SUMMARY:Let's Read: Kwame Alexander
DESCRIPTION:Join Let's Read\, an exciting series at the historic Capitol
  that connects kids with their favorite authors! Throughout the school y
 ear\, students can enjoy interactive author talks and meet-and-greets\, 
 uncovering the magic behind beloved stories. Dive into a year of inspira
 tion and adventure\, fostering a lifelong love of reading and creativity
 . This series is free and open to the public as well as school day field
  trips! \n\nKwame Alexander is a poet\, educator\, Emmy-winning producer
  and #1 New York Times bestselling author of 41 books\, including the up
 coming release "Black Star\," the second installment of his "Door of No 
 Return" trilogy\, and "Rebound\," which was shortlisted for the prestigi
 ous UK Carnegie Medal! Join Kwame at the Capitol as he concludes our Let
 's Read series this April!\n\nClick here to register for the 11:30 sessi
 on.
URL;VALUE=URI:https://warrenpl.org/events/lets-read-kwame-alexander-sess
 ion2/
UID:urn:uuid:aca3f961-2347-41dd-9598-57c4077f5118
STATUS:CONFIRMED
ORGANIZER:
DTSTAMP:20260423T082941Z
DTSTART;TZID=America/Chicago:20250428T113000
DTEND;TZID=America/Chicago:20250428T123000
LOCATION:416 East Main Street
END:VEVENT
END:VCALENDAR