BEGIN:VCALENDAR
METHOD:PUBLISH
VERSION:2.0
CALSCALE:GREGORIAN
PRODID:-//NONSGML WPForms//NONSGML Sugar Calendar Feeds v3.10.0//EN
X-WR-CALNAME:Movies at the Capitol: The Last Picture Show
X-WR-CALDESC:Warren County Public Library
X-WR-TIMEZONE:America/Chicago
BEGIN:VTIMEZONE
TZID:America/Chicago
BEGIN:DAYLIGHT
TZOFFSETFROM:-0600
TZOFFSETTO:-0500
DTSTART:20260308T080000
TZNAME:CDT
END:DAYLIGHT
END:VTIMEZONE
BEGIN:VTIMEZONE
TZID:America/Chicago
BEGIN:DAYLIGHT
TZOFFSETFROM:-0600
TZOFFSETTO:-0500
DTSTART:20260308T080000
TZNAME:CDT
END:DAYLIGHT
END:VTIMEZONE
BEGIN:VEVENT
SUMMARY:Movies at the Capitol: The Last Picture Show
DESCRIPTION:Rated R | 118 mins | 1971 | Directed by Peter Bogdanovich\n\
 nAs two friends approach adulthood in a languishing 1950's Texas town\, 
 they face the inner struggle of whether to leave and seek their fortune 
 in the outside world or stay behind with the familiar faces of their dwi
 ndling community. Copyright Columbia Pictures Industries Inc.\n\n&nbsp\;
URL;VALUE=URI:https://warrenpl.org/events/movies-at-the-capitol-the-last
 -picture-show/
UID:urn:uuid:5b8d35ff-b1bb-4985-b778-d0bd85c60ed2
STATUS:CONFIRMED
ORGANIZER:
DTSTAMP:20260422T205811Z
DTSTART;TZID=America/Chicago:20260506T183000
DTEND;TZID=America/Chicago:20260506T203000
LOCATION:416 East Main Street
END:VEVENT
END:VCALENDAR