BEGIN:VCALENDAR
METHOD:PUBLISH
VERSION:2.0
CALSCALE:GREGORIAN
PRODID:-//NONSGML WPForms//NONSGML Sugar Calendar Feeds v3.10.0//EN
X-WR-CALNAME:Preschool-Storytime-@-Kirby
X-WR-CALDESC:Warren County Public Library
X-WR-TIMEZONE:America/Chicago
BEGIN:VTIMEZONE
TZID:America/Chicago
BEGIN:DAYLIGHT
TZOFFSETFROM:-0600
TZOFFSETTO:-0500
DTSTART:20250309T080000
TZNAME:CDT
END:DAYLIGHT
END:VTIMEZONE
BEGIN:VTIMEZONE
TZID:America/Chicago
BEGIN:DAYLIGHT
TZOFFSETFROM:-0600
TZOFFSETTO:-0500
DTSTART:20250309T080000
TZNAME:CDT
END:DAYLIGHT
END:VTIMEZONE
BEGIN:VEVENT
SUMMARY:Preschool Storytime @ Kirby
DESCRIPTION:(Ages 3-5) Explore music\, art\, science\, technology\, mind
 fulness and more\, through books\, crafts and activities.\n\nContact ell
 ah@warrenpl.org for more information. No registration required. 
URL;VALUE=URI:https://warrenpl.org/sc_recurring_event/preschool-storytim
 e-smiths-grove-2/
UID:urn:uuid:90ab0856-4c4e-4572-83a9-2ae3e0abe79a
STATUS:CONFIRMED
ORGANIZER:
DTSTAMP:20260421T053151Z
DTSTART;TZID=America/Chicago:20250812T100000
DTEND;TZID=America/Chicago:20250812T103000
RRULE:FREQ=WEEKLY;INTERVAL=1
LOCATION:175 Iron Skillet Court
END:VEVENT
END:VCALENDAR