BEGIN:VCALENDAR
METHOD:PUBLISH
VERSION:2.0
CALSCALE:GREGORIAN
PRODID:-//NONSGML WPForms//NONSGML Sugar Calendar Feeds v3.10.0//EN
X-WR-CALNAME:Preschool-Yoga-@-SOKY-Center
X-WR-CALDESC:Warren County Public Library
X-WR-TIMEZONE:America/Chicago
BEGIN:VTIMEZONE
TZID:America/Chicago
BEGIN:STANDARD
TZOFFSETFROM:-0500
TZOFFSETTO:-0600
DTSTART:20251102T070000
TZNAME:CST
END:STANDARD
END:VTIMEZONE
BEGIN:VTIMEZONE
TZID:America/Chicago
BEGIN:STANDARD
TZOFFSETFROM:-0500
TZOFFSETTO:-0600
DTSTART:20251102T070000
TZNAME:CST
END:STANDARD
END:VTIMEZONE
BEGIN:VEVENT
SUMMARY:Preschool Yoga @ SOKY Center
DESCRIPTION:Come move\, play\, and imagine with us! This 30 minute yoga 
 class designed just for preschoolers blends storytelling\, music\, play\
 , and movement. Children will learn simple breathing exercises\, practic
 e basic yoga poses in a playful way\, and have time for mindful relaxati
 on. Through these practices\, little ones will better understand how to 
 respect their own bodies while also building strength\, flexibility\, ba
 lance\, and overall wellness. Donation-based class.\n\nContact lizheller
 @icloud.com for more information. No registration required. \n\n&nbsp\;
URL;VALUE=URI:https://warrenpl.org/sc_recurring_event/preschool-yoga-sok
 y-center-2-2/
UID:urn:uuid:70dc7645-04f3-49cf-8d21-eb516004cc5b
STATUS:CONFIRMED
ORGANIZER:
DTSTAMP:20260421T053411Z
DTSTART;TZID=America/Chicago:20260129T100000
DTEND;TZID=America/Chicago:20260129T103000
RRULE:FREQ=WEEKLY;INTERVAL=1
LOCATION:636 Center St.
END:VEVENT
END:VCALENDAR