BEGIN:VCALENDAR
METHOD:PUBLISH
VERSION:2.0
CALSCALE:GREGORIAN
PRODID:-//NONSGML WPForms//NONSGML Sugar Calendar Feeds v3.10.0//EN
X-WR-CALNAME:CANCELED: Soul Sculpt Yoga @ SOKY Center
X-WR-CALDESC:Warren County Public Library
X-WR-TIMEZONE:America/Chicago
BEGIN:VTIMEZONE
TZID:America/Chicago
BEGIN:STANDARD
TZOFFSETFROM:-0500
TZOFFSETTO:-0600
DTSTART:20251102T070000
TZNAME:CST
END:STANDARD
BEGIN:DAYLIGHT
TZOFFSETFROM:-0600
TZOFFSETTO:-0500
DTSTART:20260308T080000
TZNAME:CDT
END:DAYLIGHT
END:VTIMEZONE
BEGIN:VTIMEZONE
TZID:America/Chicago
BEGIN:STANDARD
TZOFFSETFROM:-0500
TZOFFSETTO:-0600
DTSTART:20251102T070000
TZNAME:CST
END:STANDARD
BEGIN:DAYLIGHT
TZOFFSETFROM:-0600
TZOFFSETTO:-0500
DTSTART:20260308T080000
TZNAME:CDT
END:DAYLIGHT
END:VTIMEZONE
BEGIN:VEVENT
SUMMARY:CANCELED: Soul Sculpt Yoga @ SOKY Center
DESCRIPTION:A Pilates inspired class that seamlessly blends structured m
 ovements\, with intuitive beat blended movements. In SOUL SCULPT we use 
 body weight with optional bands and ankle weights for added resistance. 
 In this class you can expect to be led by music\, find strength in your 
 body while igniting a fire in your SOUL. Low impact \, high energy and r
 eal results. \n\nDonation-based class. Contact Jenkins.Emery.lu@gmail.co
 m for more information. No registration required. \n\n&nbsp\;
URL;VALUE=URI:https://warrenpl.org/events/soul-sculpt-yoga-soky-center-2
 -2-2-2/
UID:urn:uuid:66b23b9c-f148-40bc-86e1-4359519f1972
STATUS:CONFIRMED
ORGANIZER:
DTSTAMP:20260421T024930Z
DTSTART;TZID=America/Chicago:20260423T163000
DTEND;TZID=America/Chicago:20260423T173000
LOCATION:636 Center St.
END:VEVENT
END:VCALENDAR