BEGIN:VCALENDAR
METHOD:PUBLISH
VERSION:2.0
CALSCALE:GREGORIAN
PRODID:-//NONSGML WPForms//NONSGML Sugar Calendar Feeds v3.10.0//EN
X-WR-CALNAME:Spiritual-Warrior-Yoga-Jivamukti-Inspired-Practice-@-SOKY-C
 enter
X-WR-CALDESC:Warren County Public Library
X-WR-TIMEZONE:America/Chicago
BEGIN:VTIMEZONE
TZID:America/Chicago
BEGIN:STANDARD
TZOFFSETFROM:-0500
TZOFFSETTO:-0600
DTSTART:20251102T070000
TZNAME:CST
END:STANDARD
END:VTIMEZONE
BEGIN:VTIMEZONE
TZID:America/Chicago
BEGIN:STANDARD
TZOFFSETFROM:-0500
TZOFFSETTO:-0600
DTSTART:20251102T070000
TZNAME:CST
END:STANDARD
END:VTIMEZONE
BEGIN:VEVENT
SUMMARY:Spiritual Warrior Yoga | Jivamukti-Inspired Practice @ SOKY Cent
 er
DESCRIPTION:Meet 2026 not as something to conquer or perfect\, but as so
 mething to be in a relationship with.  \n\nThis fast paced\, vinyasa s
 tyle class balances dynamic physical workout (exploration of advanced po
 stures ) with deep spiritual focus. Within 60 minutes we will create a p
 owerful\, moving meditation that connects breath to movement rooted in l
 ove - beginning in the body and extending outward into community\, justi
 ce and service. This is a practice of remembering that inner change is s
 ocial change. \n\nDonation-based class. Contact credye@yahoo.com for mor
 e information. No registration required.
URL;VALUE=URI:https://warrenpl.org/sc_recurring_event/spiritual-warrior-
 yoga-jivamukti-inspired-practice-soky-center/
UID:urn:uuid:b0807d3a-89bd-46b7-a9c2-1e6f44de7a6e
STATUS:CONFIRMED
ORGANIZER:
DTSTAMP:20260421T101256Z
DTSTART;TZID=America/Chicago:20260104T110000
DTEND;TZID=America/Chicago:20260104T120000
RRULE:FREQ=WEEKLY;INTERVAL=1
LOCATION:636 Center St.
END:VEVENT
END:VCALENDAR