BEGIN:VCALENDAR
METHOD:PUBLISH
VERSION:2.0
CALSCALE:GREGORIAN
PRODID:-//NONSGML WPForms//NONSGML Sugar Calendar Feeds v3.10.0//EN
X-WR-CALNAME:Talented-Toddlers-@-Rice
X-WR-CALDESC:Warren County Public Library
X-WR-TIMEZONE:America/Chicago
BEGIN:VTIMEZONE
TZID:America/Chicago
BEGIN:STANDARD
TZOFFSETFROM:-0500
TZOFFSETTO:-0600
DTSTART:20231105T070000
TZNAME:CST
END:STANDARD
BEGIN:DAYLIGHT
TZOFFSETFROM:-0600
TZOFFSETTO:-0500
DTSTART:20240310T080000
TZNAME:CDT
END:DAYLIGHT
END:VTIMEZONE
BEGIN:VTIMEZONE
TZID:America/Chicago
BEGIN:STANDARD
TZOFFSETFROM:-0500
TZOFFSETTO:-0600
DTSTART:20231105T070000
TZNAME:CST
END:STANDARD
BEGIN:DAYLIGHT
TZOFFSETFROM:-0600
TZOFFSETTO:-0500
DTSTART:20240310T080000
TZNAME:CDT
END:DAYLIGHT
END:VTIMEZONE
BEGIN:VEVENT
SUMMARY:Talented Toddlers @ Rice
DESCRIPTION:(18 months - 3 years) We engage toddlers (and grown ups!) to
  sing\, read\, dance\, and play while building a foundation for early li
 teracy learning!\n\nContact tatumb@warrenpl.org  for more information. 
 No registration required. 
URL;VALUE=URI:https://warrenpl.org/sc_recurring_event/talented-toddlers-
 rice/
UID:urn:uuid:d56de0bb-c59d-4a61-a394-50423354d299
STATUS:CONFIRMED
ORGANIZER:
DTSTAMP:20260421T050811Z
DTSTART;TZID=America/Chicago:20240423T100000
DTEND;TZID=America/Chicago:20240423T103000
RRULE:FREQ=WEEKLY;INTERVAL=1
LOCATION:1225 State Street
END:VEVENT
END:VCALENDAR